BEGIN:VCALENDAR
VERSION:2.0
PRODID:-//SV Westick Kaiserau - ECPv5.0.2.1//NONSGML v1.0//EN
CALSCALE:GREGORIAN
METHOD:PUBLISH
X-WR-CALNAME:SV Westick Kaiserau
X-ORIGINAL-URL:https://sv-westick-kaiserau.eu
X-WR-CALDESC:Veranstaltungen im SV Westick Kaiserau
BEGIN:VTIMEZONE
TZID:UTC
BEGIN:STANDARD
TZOFFSETFROM:+0000
TZOFFSETTO:+0000
TZNAME:UTC
DTSTART:20190101T000000
END:STANDARD
END:VTIMEZONE
BEGIN:VEVENT
DTSTART;TZID=UTC:20190706T080000
DTEND;TZID=UTC:20190706T170000
DTSTAMP:20260420T094545
CREATED:20190317T133158Z
LAST-MODIFIED:20190317T133158Z
UID:307-1562400000-1562432400@sv-westick-kaiserau.eu
SUMMARY:Vereinsmeisterschaften
DESCRIPTION:
URL:https://sv-westick-kaiserau.eu/event/vereinsmeisterschaften
CATEGORIES:interne Wettkämpfe
END:VEVENT
END:VCALENDAR