BEGIN:VCALENDAR
VERSION:2.0
PRODID:-//SV Westick Kaiserau - ECPv5.0.2.1//NONSGML v1.0//EN
CALSCALE:GREGORIAN
METHOD:PUBLISH
X-WR-CALNAME:SV Westick Kaiserau
X-ORIGINAL-URL:https://sv-westick-kaiserau.eu
X-WR-CALDESC:Veranstaltungen im SV Westick Kaiserau
BEGIN:VTIMEZONE
TZID:UTC
BEGIN:STANDARD
TZOFFSETFROM:+0000
TZOFFSETTO:+0000
TZNAME:UTC
DTSTART:20190101T000000
END:STANDARD
END:VTIMEZONE
BEGIN:VEVENT
DTSTART;TZID=UTC:20190601T080000
DTEND;TZID=UTC:20190602T170000
DTSTAMP:20260421T083058
CREATED:20190317T132741Z
LAST-MODIFIED:20190317T132741Z
UID:290-1559376000-1559494800@sv-westick-kaiserau.eu
SUMMARY:Salinenschwimmfest TV Werne
DESCRIPTION:
URL:https://sv-westick-kaiserau.eu/event/salinenschwimmfest-tv-werne
CATEGORIES:besuchte Wettkämpfe
END:VEVENT
END:VCALENDAR