BEGIN:VCALENDAR
VERSION:2.0
PRODID:-//SV Westick Kaiserau - ECPv5.0.2.1//NONSGML v1.0//EN
CALSCALE:GREGORIAN
METHOD:PUBLISH
X-WR-CALNAME:SV Westick Kaiserau
X-ORIGINAL-URL:https://sv-westick-kaiserau.eu
X-WR-CALDESC:Veranstaltungen im SV Westick Kaiserau
BEGIN:VTIMEZONE
TZID:UTC
BEGIN:STANDARD
TZOFFSETFROM:+0000
TZOFFSETTO:+0000
TZNAME:UTC
DTSTART:20190101T000000
END:STANDARD
END:VTIMEZONE
BEGIN:VEVENT
DTSTART;TZID=UTC:20190525T080000
DTEND;TZID=UTC:20190526T170000
DTSTAMP:20260419T142453
CREATED:20190317T132502Z
LAST-MODIFIED:20190317T132502Z
UID:284-1558771200-1558890000@sv-westick-kaiserau.eu
SUMMARY:37. Sparkassen Swim Open u. Masters
DESCRIPTION:
URL:https://sv-westick-kaiserau.eu/event/37-sparkassen-swim-open-u-masters
CATEGORIES:besuchte Wettkämpfe
END:VEVENT
END:VCALENDAR